BEGIN:VCALENDAR
VERSION:2.0
PRODID:-//Trade Promotion Council of India - ECPv6.15.20//NONSGML v1.0//EN
CALSCALE:GREGORIAN
METHOD:PUBLISH
X-ORIGINAL-URL:https://www.tpci.in
X-WR-CALDESC:Events for Trade Promotion Council of India
REFRESH-INTERVAL;VALUE=DURATION:PT1H
X-Robots-Tag:noindex
X-PUBLISHED-TTL:PT1H
BEGIN:VTIMEZONE
TZID:Asia/Kolkata
BEGIN:STANDARD
TZOFFSETFROM:+0530
TZOFFSETTO:+0530
TZNAME:IST
DTSTART:20240101T000000
END:STANDARD
END:VTIMEZONE
BEGIN:VEVENT
DTSTART;TZID=Asia/Kolkata:20250108T080000
DTEND;TZID=Asia/Kolkata:20250110T170000
DTSTAMP:20260425T171738
CREATED:20241203T100440Z
LAST-MODIFIED:20250106T140037Z
UID:22350-1736323200-1736528400@www.tpci.in
SUMMARY:Indusfood 2025
DESCRIPTION:Indusfood\, Asia’s premier F&B trade show\, is ready to host its 8th blockbuster edition TPCI has been successfully organising Indusfood\, Asia’s premier F&B trade show for 7 years. The trade show has provided an unparalleled opportunity for Indian F&B exporters looking to explore global market opportunities. With its exclusive B2B format\, Indusfood has grown from strength to strength\, hosting over 1\,200 exhibitors and 7\,500+ buyers from 100+ countries in its 7th edition in 2024. It is also now a truly global show\, extending its platform to global exhibitors\, additionally providing them an opportunity to tap the lucrative Indian F&B market. \nIn the 8th edition\, Indusfood is set to mark another pivotal milestone in its journey – to become an integrated farm to fork trade fair. It has embarked on a vision to be the globally recognized largest food industry trade exhibition capturing the entire value chain from farm to fork with the following concurrent trade fairs: \n\nIndusfood Manufacturing: Food processing technology\, packaging technology\, ingredients and hospitality technology\nIndusfood Agritech: Agritech\, aquaculture technology\, fisheries\, dairy and poultry farming technology\n\nWith this integrated approach\, Indusfood now aims to catalyse transformation across this F&B value chain\, driving innovation and sustainable growth from the heart of India. \n \nEstimated Indusfood 2025 Highlights:\n \nDates: January 8\, 9\, 10 2025 \nVenue: India Expo Centre and Mart\, Greater Noida \nConcurrent trade shows: Indusfood Manufacturing & Indusfood Agritech (January 9-11) at Yashobhoomi Dwarka\, New Delhi. \nExhibitor Zones\n \nWHY ATTEND? \n\nUnlock a world of business opportunities at Indusfood 2025\, your definitive window to India’s thriving food economy.\nLucrative opportunities for trade\, networking\, sourcing\, investments\, JVs\, business expansion\, knowledge exchange across F&B segments.\nIndusfood fuels international F&B business by helping facilitate connections between buyers and brands with outstanding services like international hosted buyer program\, online matchmaking\, knowledge-driven networking platforms\, curated world-class culinary events\, and more.\nWith the successful launch of its international pavilion as well as expanding coverage of focus F&B segments\, Indusfood is committed to catalysing the global F&B industry.Buyer profiles.\n\nKey programmes\nWorld Chefs – Asia Presidents Forum 2025\n \nThis distinguished annual conclave unites culinary leaders from various Asian nations. It offers an unparalleled opportunity to explore the confluence of culinary excellence & global trade\, serving as a melting pot of ideas and insights into the culinary arts and hospitality sectors. \nGlobal Biosecurity & Standards Conclave 2025 \nThe Conclave will bring together regulatory leaders from G-20 countries to develop comprehensive strategies for food biosecurity. Discussions will include coordinated international response strategies for crop diseases\, harmonised biosecurity standards\, and enhanced border controls. \nIndusfood Innovation Awards 2025\nStep into a world where culinary brilliance and ground-breaking innovation collide. Nominate your products for this unique opportunity to boost your brand in front of the who’s who of the global F&B industry. \n \nIndusfood Knowledge Hub\nIndus Knowledge Hub brings together top retailers\, importers\, and distributors to share valuable insights on regional market trends\, consumer behaviour\, procurement strategies\, and proven success strategies. \n \nInternational Food Retail Conclave & CEO Forum\nThe International Food Retail Conclave & CEO Forum 2025 aims to engage and explore business opportunities with leading global retail chains. The CEO Forum will feature discussions between the Government of India and top retail and e-commerce CEOs\, focusing on procurement strategies\, investments in India’s food retail sector\, market access\, and collaboration opportunities. \n \nOther events: \n\nGlobal Food Security Conclave 2025\nSustainable Food Manufacturing Summit 2025\nFuture of Agriculture 2025\n\n  \nContact Details  \nExhibitors Enquiry                                                Buyer’s Enquiry \n+91 9205883424                                                    9205883435\, +91 8287900309 \nexhibit.indusfood@tpci.in                                    buyer.indusfood@tpci.in \n 
URL:https://www.tpci.in/eventdefault/indusfood-2025/
CATEGORIES:Food & Agri
END:VEVENT
END:VCALENDAR