BEGIN:VCALENDAR
VERSION:2.0
PRODID:-//Trade Promotion Council of India - ECPv6.15.20//NONSGML v1.0//EN
CALSCALE:GREGORIAN
METHOD:PUBLISH
X-ORIGINAL-URL:https://www.tpci.in
X-WR-CALDESC:Events for Trade Promotion Council of India
REFRESH-INTERVAL;VALUE=DURATION:PT1H
X-Robots-Tag:noindex
X-PUBLISHED-TTL:PT1H
BEGIN:VTIMEZONE
TZID:Asia/Kolkata
BEGIN:STANDARD
TZOFFSETFROM:+0530
TZOFFSETTO:+0530
TZNAME:IST
DTSTART:20240101T000000
END:STANDARD
END:VTIMEZONE
BEGIN:VEVENT
DTSTART;TZID=Asia/Kolkata:20251202T080000
DTEND;TZID=Asia/Kolkata:20251204T170000
DTSTAMP:20260424T001749
CREATED:20251013T101316Z
LAST-MODIFIED:20251013T102439Z
UID:23439-1764662400-1764867600@www.tpci.in
SUMMARY:Indian Pavilion at Ready to Eat Market x Food Ingredients Europe 2025
DESCRIPTION:2 – 4 December 2025 | Paris Expo Porte de Versailles\, Paris\, France\nTrade Promotion Council of India (TPCI) is organizing the Indian Pavilion at the Ready to Eat Market x Food Ingredients Europe 2025\, to be held at Paris Expo Porte de Versailles\, France\, from 2 – 4 December 2025. \nTPCI invites members and industry partners from the Food & Beverages sector to participate in this prestigious platform to showcase the strength and diversity of India’s processed and ready-to-eat food industry to global buyers\, importers\, and distributors. \nThe ‘Ready to Market’ zone is a dynamic new feature that highlights finished products and turnkey solutions ready for commercial launch. This exclusive area bridges the gap between innovation and implementation—offering a curated display of market-ready innovations poised to reach shelves and menus worldwide. \nAbout the Industry\nThe Europe Ready-to-Eat (RTE) Market is valued at US$ 51.27 billion in 2024\, underscoring a robust demand for convenient and nutritious meal options. \nIndia’s exports to Europe (HS Codes 16–22) were valued at US$ 976.9 million in 2024\, highlighting the country’s growing contribution to this segment. Driven by evolving consumer lifestyles\, increasing preference for packaged and easy-to-prepare meals\, and rising innovation in processed food technologies\, the RTE sector presents immense export opportunities for Indian companies. \n\nWhy Exhibit?\n\nDirect Access to Decision-Makers: Connect with brand owners\, importers\, and retailers seeking ready-to-market solutions.\nSpecialized Audience: Engage with buyers aiming to shorten R&D cycles and source ready-to-sell products.\nCompetitive Differentiation: Stand apart from ingredient suppliers by presenting complete\, implementable concepts.\nCross-Industry Visibility: Reach clients from diverse food and beverage segments under one focused platform.\nInnovation Showcase: Highlight your R&D excellence through fully developed\, consumer-ready offerings.\n\n\nFocus Product Segments\n\nBakery\nAlcoholic Beverages\nDairy & Dairy Alternatives\nNon-Alcoholic Beverages\nIndian Ethnic Sweets & Snacks\nFruits & Vegetables\nInstant Food Products\nOrganic & Health Foods\nConfectionery\nCanned Food\nReady-to-Eat (Frozen & Ambient)\nTea & Coffee\nConsumer Foods\nDry Fruits\n\n\nParticipation Charges (Shell Scheme)\nStall Size: 6 sqm (built-up booth)Includes: Walls\, 2 chairs\, 1 table counter\, 1 bar stool\, 2 spotlights\, waste bin\, fascia name\, and 1 power socket \n\n\nParticipation Fee\n\n\n\n\nCategory\nParticipation Fee (INR)\n\n\n\n\nTPCI Members\nRs. 4\,25\,000/-\n\n\nNon-Members\nRs. 5\,25\,000/-\n\n\n\n\n\n\nPer Corner Charges: Rs. 25\,000/- extra \nNote: Limited subsidized slots available on a first-come\, first-served basis. \nPlease apply with the duly filled application form along with the DD/Cheque of the complete amount in favour of “Trade Promotion Council of India”\, payable at New Delhi\, to secure your participation. \n\nJoin the Indian Pavilion\nBe a part of India’s growing footprint in the global food landscape.Showcase your innovations\, network with international buyers\, and expand your reach in Europe’s thriving Ready-to-Eat market. \nPlease feel free to connect with the following for further details: \nMr. Bhanu Vashishtha\nDirector\nTrade Promotion council of India\nMob: +91-9205883423 Email: bhanu.v@tpci.in
URL:https://www.tpci.in/eventdefault/indian-pavilion-at-fi-europe-2025/
LOCATION:Delhi
CATEGORIES:B2B Meet
END:VEVENT
BEGIN:VEVENT
DTSTART;TZID=Asia/Kolkata:20260106T080000
DTEND;TZID=Asia/Kolkata:20260108T180000
DTSTAMP:20260424T001749
CREATED:20250409T104440Z
LAST-MODIFIED:20250918T060940Z
UID:22572-1767686400-1767895200@www.tpci.in
SUMMARY:Indusfood Manufacturing 2026
DESCRIPTION:IndusFood Manufacturing: Transforming India into a Global F&B Technology Hub\nDates: January 6-8\, 2026Venue: Yashobhoomi Convention Centre\, Sector 25 Dwarka\, Delhi\, IndiaOrganized by: Trade Promotion Council of India (TPCI) \n\nAbout Indusfood Manufacturing 2026\nIndusfood Manufacturing is India’s leading trade platform dedicated exclusively to the food processing and packaging industries. The 2026 edition will focus on showcasing the latest advancements in manufacturing technology\, food processing solutions\, and innovative packaging techniques. \nAs part of Indusfood 2026\, Indusfood Manufacturing brings together global leaders in food production\, processing technology\, and packaging solutions to connect with India’s growing food export ecosystem. Organized by the Trade Promotion Council of India (TPCI)\, this event provides a unique opportunity for manufacturers\, suppliers\, and industry stakeholders to network\, explore new technologies\, and enhance their production capabilities. \n\nKey Highlights of Indusfood Manufacturing 2026\n\nOver 500 Exhibitors showcasing innovations in food manufacturing\, processing\, and packaging\nDedicated Focus on Technology with a special pavilion for food processing and packaging solutions\nCutting-Edge Machinery for food production\, packaging\, and logistics\nAI-Powered B2B Matchmaking for optimal business connections and collaboration\nLive Demonstrations of new technologies and machinery\nInnovation Zones to feature groundbreaking developments and startups\nIndustry-Specific Knowledge Sessions on trends\, regulatory updates\, and technological innovations\n\n\nWhy Attend Indusfood Manufacturing 2026?\nIndusfood Manufacturing offers unmatched opportunities for food manufacturers\, processors\, and technology providers to explore new business avenues\, discover new innovations\, and gain insights into the latest trends shaping the food manufacturing industry. Here’s why you should attend: \n\nDiscover the Latest Innovations: Stay ahead of the curve with the latest advancements in food processing and packaging technologies.\nForge New Partnerships: Network with top manufacturers\, suppliers\, and decision-makers to expand your business.\nEnhance Production Capabilities: Access the latest technologies and solutions to streamline production and increase efficiency.\nLearn from Industry Experts: Attend knowledge sessions and gain insights into the latest trends\, regulations\, and innovations in the food manufacturing sector.\nBoost Your Brand’s Global Visibility: Strengthen your business’s global reach by showcasing your products and innovations at a leading international platform.\n\n\nProduct Categories\nIndusfood Manufacturing 2026 will feature a comprehensive range of categories focusing on the manufacturing and technology side of the food industry: \n\nFood Processing Machinery\nPackaging Technology & Materials\nFood Ingredients & Additives\nAutomation & Robotics in Food Production\nLogistics & Supply Chain Solutions\nSustainability & Eco-friendly Packaging Solutions\nQuality Control & Safety Equipment\n\n\nVenue Details\nYashobhoomi (IICC) – India International Convention & Expo CentreSector 25\, Dwarka\, New Delhi – 110077\, India \nConveniently located in Dwarka\, the venue is around a 20-minute drive from Indira Gandhi International Airport. The Yashobhoomi Dwarka Sector 25 Metro Station (Airport Express Line) is directly connected to the venue\, ensuring easy accessibility. \n\nRegister Now for Indusfood Manufacturing 2026\nIndusfood Manufacturing 2026 is an essential event for anyone in the food processing and packaging industries. Be part of this significant platform to explore new technologies\, enhance production capabilities\, and expand your business reach. For more information Please Visit our website
URL:https://www.tpci.in/eventdefault/indusfood-manufacturing-2026/
LOCATION:Yashobhoomi Convention Centre\, Yashobhoomi Convention Centre\, Sector 25 Dwarka\, Delhi\, Delhi\, Delhi\, 110061\, India
CATEGORIES:B2B Meet
END:VEVENT
BEGIN:VEVENT
DTSTART;TZID=Asia/Kolkata:20260108T080000
DTEND;TZID=Asia/Kolkata:20260110T180000
DTSTAMP:20260424T001749
CREATED:20250409T105502Z
LAST-MODIFIED:20251213T190237Z
UID:22577-1767859200-1768068000@www.tpci.in
SUMMARY:Indusfood 2026
DESCRIPTION:Asia’s Premier Food & Beverage Trade Fair \nDates: January 8–10\, 2026Venue: India Exposition Mart\, Greater Noida\, IndiaOrganized by: Trade Promotion Council of India (TPCI) \n\nAbout Indusfood 2026\nIndusfood is India’s largest and most prestigious trade fair for the food and beverage industry\, designed to facilitate business connections and promote India’s food exports globally. The 2026 edition promises to be a premier platform for B2B interactions\, showcasing a wide range of products\, innovations\, and solutions that drive the global food industry forward. \nOrganized by the Trade Promotion Council of India (TPCI)\, Indusfood 2026 will provide businesses with invaluable opportunities to network\, explore new markets\, and forge lasting partnerships. The event is set to bring together key industry players\, including manufacturers\, buyers\, distributors\, and suppliers from across the globe. \n\nWhy Visit Indusfood 2026?\nIndusfood 2026 provides an unparalleled opportunity for businesses to connect with potential partners\, explore emerging trends\, and gain insights into India’s rapidly expanding food export sector. Here’s why you should attend: \n\nGlobal Networking Opportunities: Meet and network with key buyers\, suppliers\, and stakeholders from around the world.\nExposure to Cutting-Edge Innovations: Discover the latest advancements in food processing\, packaging\, and technology.\nStrategic Partnerships: Build meaningful business relationships with industry leaders and decision-makers.\nMarket Expansion: Tap into new markets and explore opportunities for global business expansion.\n\n\nProduct Categories\nIndusfood 2026 will feature a wide range of product categories\, including: \n\nProcessed Foods & Snacks\nBeverages (Non-Alcoholic & Alcoholic)\nOrganic & Health Foods\nDairy & Confectionery\nIngredients & Flavors\nFood Tech & Packaging Solutions\n\nThis diverse range of categories offers something for every segment of the food and beverage industry. \n\nVenue Details\nIndia Exposition Mart Ltd.Plot No. 23–25 & 27–29\, Knowledge Park II\, Greater Noida – 201306\, Uttar Pradesh\, India \nThe venue is easily accessible from Delhi via the Greater Noida Expressway and is approximately a 45-minute drive from Indira Gandhi International Airport. The Knowledge Park II Metro Station (Aqua Line) is the nearest metro station to the venue. \nRegister Now for Indusfood 2026 \nJoin us for Indusfood 2026 and be part of India’s leading trade fair for the food and beverage industry. For detailed information about registration\, exhibitors\, and event updates\, please visit the Indusfood website.
URL:https://www.tpci.in/eventdefault/indusfood-2026/
LOCATION:India Exposition Mart\, Greater noida\, India
CATEGORIES:B2B Meet
END:VEVENT
END:VCALENDAR