BEGIN:VCALENDAR
VERSION:2.0
PRODID:-//Trade Promotion Council of India - ECPv6.15.20//NONSGML v1.0//EN
CALSCALE:GREGORIAN
METHOD:PUBLISH
X-WR-CALNAME:Trade Promotion Council of India
X-ORIGINAL-URL:https://www.tpci.in
X-WR-CALDESC:Events for Trade Promotion Council of India
REFRESH-INTERVAL;VALUE=DURATION:PT1H
X-Robots-Tag:noindex
X-PUBLISHED-TTL:PT1H
BEGIN:VTIMEZONE
TZID:Asia/Kolkata
BEGIN:STANDARD
TZOFFSETFROM:+0530
TZOFFSETTO:+0530
TZNAME:IST
DTSTART:20250101T000000
END:STANDARD
END:VTIMEZONE
BEGIN:VEVENT
DTSTART;TZID=Asia/Kolkata:20260106T080000
DTEND;TZID=Asia/Kolkata:20260108T180000
DTSTAMP:20260422T195027
CREATED:20250409T104440Z
LAST-MODIFIED:20250918T060940Z
UID:22572-1767686400-1767895200@www.tpci.in
SUMMARY:Indusfood Manufacturing 2026
DESCRIPTION:IndusFood Manufacturing: Transforming India into a Global F&B Technology Hub\nDates: January 6-8\, 2026Venue: Yashobhoomi Convention Centre\, Sector 25 Dwarka\, Delhi\, IndiaOrganized by: Trade Promotion Council of India (TPCI) \n\nAbout Indusfood Manufacturing 2026\nIndusfood Manufacturing is India’s leading trade platform dedicated exclusively to the food processing and packaging industries. The 2026 edition will focus on showcasing the latest advancements in manufacturing technology\, food processing solutions\, and innovative packaging techniques. \nAs part of Indusfood 2026\, Indusfood Manufacturing brings together global leaders in food production\, processing technology\, and packaging solutions to connect with India’s growing food export ecosystem. Organized by the Trade Promotion Council of India (TPCI)\, this event provides a unique opportunity for manufacturers\, suppliers\, and industry stakeholders to network\, explore new technologies\, and enhance their production capabilities. \n\nKey Highlights of Indusfood Manufacturing 2026\n\nOver 500 Exhibitors showcasing innovations in food manufacturing\, processing\, and packaging\nDedicated Focus on Technology with a special pavilion for food processing and packaging solutions\nCutting-Edge Machinery for food production\, packaging\, and logistics\nAI-Powered B2B Matchmaking for optimal business connections and collaboration\nLive Demonstrations of new technologies and machinery\nInnovation Zones to feature groundbreaking developments and startups\nIndustry-Specific Knowledge Sessions on trends\, regulatory updates\, and technological innovations\n\n\nWhy Attend Indusfood Manufacturing 2026?\nIndusfood Manufacturing offers unmatched opportunities for food manufacturers\, processors\, and technology providers to explore new business avenues\, discover new innovations\, and gain insights into the latest trends shaping the food manufacturing industry. Here’s why you should attend: \n\nDiscover the Latest Innovations: Stay ahead of the curve with the latest advancements in food processing and packaging technologies.\nForge New Partnerships: Network with top manufacturers\, suppliers\, and decision-makers to expand your business.\nEnhance Production Capabilities: Access the latest technologies and solutions to streamline production and increase efficiency.\nLearn from Industry Experts: Attend knowledge sessions and gain insights into the latest trends\, regulations\, and innovations in the food manufacturing sector.\nBoost Your Brand’s Global Visibility: Strengthen your business’s global reach by showcasing your products and innovations at a leading international platform.\n\n\nProduct Categories\nIndusfood Manufacturing 2026 will feature a comprehensive range of categories focusing on the manufacturing and technology side of the food industry: \n\nFood Processing Machinery\nPackaging Technology & Materials\nFood Ingredients & Additives\nAutomation & Robotics in Food Production\nLogistics & Supply Chain Solutions\nSustainability & Eco-friendly Packaging Solutions\nQuality Control & Safety Equipment\n\n\nVenue Details\nYashobhoomi (IICC) – India International Convention & Expo CentreSector 25\, Dwarka\, New Delhi – 110077\, India \nConveniently located in Dwarka\, the venue is around a 20-minute drive from Indira Gandhi International Airport. The Yashobhoomi Dwarka Sector 25 Metro Station (Airport Express Line) is directly connected to the venue\, ensuring easy accessibility. \n\nRegister Now for Indusfood Manufacturing 2026\nIndusfood Manufacturing 2026 is an essential event for anyone in the food processing and packaging industries. Be part of this significant platform to explore new technologies\, enhance production capabilities\, and expand your business reach. For more information Please Visit our website
URL:https://www.tpci.in/eventdefault/indusfood-manufacturing-2026/
LOCATION:Yashobhoomi Convention Centre\, Yashobhoomi Convention Centre\, Sector 25 Dwarka\, Delhi\, Delhi\, Delhi\, 110061\, India
CATEGORIES:B2B Meet
END:VEVENT
END:VCALENDAR