BEGIN:VCALENDAR
VERSION:2.0
PRODID:-//Trade Promotion Council of India - ECPv6.15.20//NONSGML v1.0//EN
CALSCALE:GREGORIAN
METHOD:PUBLISH
X-WR-CALNAME:Trade Promotion Council of India
X-ORIGINAL-URL:https://www.tpci.in
X-WR-CALDESC:Events for Trade Promotion Council of India
REFRESH-INTERVAL;VALUE=DURATION:PT1H
X-Robots-Tag:noindex
X-PUBLISHED-TTL:PT1H
BEGIN:VTIMEZONE
TZID:Asia/Kolkata
BEGIN:STANDARD
TZOFFSETFROM:+0530
TZOFFSETTO:+0530
TZNAME:IST
DTSTART:20230101T000000
END:STANDARD
END:VTIMEZONE
BEGIN:VEVENT
DTSTART;TZID=Asia/Kolkata:20241016T090000
DTEND;TZID=Asia/Kolkata:20241016T170000
DTSTAMP:20260423T222224
CREATED:20240912T073837Z
LAST-MODIFIED:20240916T060117Z
UID:22123-1729069200-1729098000@www.tpci.in
SUMMARY:India - United Kingdom(UK) F&B Buyer Seller Meet
DESCRIPTION:Trade Promotion Council of India (TPCI) is organizing the India-UK Buyer Seller Meet for Food & Beverages on 16th October 2024 in London\, United Kingdom. This BSM will offer one-on-one meetings with F&B importers\, distributors\, and modern trade outlets from the UK region. \nIndian F&B manufacturers and exporters attending this delegation will have the chance to explore various export and contract manufacturing opportunities. \nIn 2023\, India exported goods worth US$ 13.4 billion to the United Kingdom\, with F&B exports accounting for US$ 945.7 million\, or 7% of the total exports. The UK’s imports of Indian F&B products have grown at a 5-year CAGR of 8%\, led by categories such as sugar and sugar confectionery\, cereals\, cereal-based products\, beverages\, and vegetables. \nTPCI invites interested food and beverage exporters to join the Indian delegation for this BSM\, offering a prime opportunity to expand their business in the UK region. \nWhy should you attend this India-UK Buyer Seller Meet? \n\nCollaborate with established and emerging UK importers\, retailers\, distributors\, wholesalers\, and partners.\nGrow your business in one of the fastest-growing markets\, with a strong demand for processed food\, beverages\, and innovative products.\nNurture relationships by meeting existing partners and connecting with industry leaders and new partners in the UK.\n\nProduct Segments\n\nGrains & Cereals\nSpices & Food Preparation\nTea & Coffee\nIndian Ethnic Sweets & Snacks\nBakery & Confectionery\nFresh & Frozen Food Products\nCanned Items\nKitchen Staples\nNon – Alcoholic Beverages\nReady-to-Eat\nReady-to-Cook\nHealthy Food etc. \n\nParticipation Charges: \n\n\n\n\nDetails\nInclusions\nSubsidized Price in INR\n\n\nDelegate Package – United Kingdom – London \nNote: \n\nValid IEC is a must.\n 1 person per company at subsidized price allowed.\n\n\n\n\nB2B Meetings Only\n  Luncheon during business hours on BSM days.\n  Visa Facilitation\n  Visa Fee Excluded.\n\n\n  \n  \n\nINR 1\,20\,000/- (For TPCI Members) + 18% GST\nINR 1\,70\,000/- (For Non Members) + 18% GST \n\n \n\n\n\nTentative Programme:  16th\, October 2024 – London\, UK\nPlease apply with the duly filled form attached along with the DD/Cheque of the complete amount in favor of the “Trade Promotion Council of India” payable at NEW DELHI and secure a discounted rate. The last day to apply for participation in the BSM is 23rd September 2024. This subsidy is strictly on a first come first serve basis only.
URL:https://www.tpci.in/eventdefault/india-united-kingdomuk-buyer-seller-meet/
CATEGORIES:B2B Meet
END:VEVENT
END:VCALENDAR