BEGIN:VCALENDAR
VERSION:2.0
PRODID:-//Trade Promotion Council of India - ECPv6.15.20//NONSGML v1.0//EN
CALSCALE:GREGORIAN
METHOD:PUBLISH
X-ORIGINAL-URL:https://www.tpci.in
X-WR-CALDESC:Events for Trade Promotion Council of India
REFRESH-INTERVAL;VALUE=DURATION:PT1H
X-Robots-Tag:noindex
X-PUBLISHED-TTL:PT1H
BEGIN:VTIMEZONE
TZID:Asia/Kolkata
BEGIN:STANDARD
TZOFFSETFROM:+0530
TZOFFSETTO:+0530
TZNAME:IST
DTSTART:20230101T000000
END:STANDARD
END:VTIMEZONE
BEGIN:VEVENT
DTSTART;VALUE=DATE:20240827
DTEND;VALUE=DATE:20240830
DTSTAMP:20260424T001501
CREATED:20240605T071729Z
LAST-MODIFIED:20240730T070315Z
UID:21757-1724716800-1724975999@www.tpci.in
SUMMARY:India Oceania Buyer seller Meet
DESCRIPTION:With the assistance of the Indian High Commission in Australia\, the Trade Promotion Council of India (TPCI) is organising a Food and Beverage Industry delegation to Australia for 25 Indian companies in an effort to significantly advance and expand the Indian F&B Industry. This delegation’s main priorities are B2B meetings (with pertinent importers\, wholesalers\, medium- and large-scale purchasers\, Chambers of Commerce\, etc.) and B2G talks (with provincial governments & regulators). \nIndia’s F&B exports to the Oceania region stood at US$ 528.2 million in 2023\, accounting for 2.4% of Oceania’s total imports of US$ 21.8 billion. Australia is the largest market in the region\, where India exported F&B products worth US$ 412.3 million in 2023\, which accounts for 2.7% of Australia’s total F&B imports of US$ 15.2 billion. \nWhile India currently has a relatively small share of imports in the Oceania region\, there is significant headroom for growth. The India-Australia CEPA has provided a strong thrust to bilateral business ties\, which is also evident from the growth trends in raw as well as processed food products. \nIndia’s F&B exports to Australia have grown at a 5-year CAGR of 10.4%\, led by cereals & cereal preparations\, coffee\, tea\, spices\, miscellaneous edible preparations\, fruits and vegetables\, organic and health food\, non-alcoholic beverages\, wine & spirits. \nThe India Oceania Buyer Seller Meet\, organized by TPCI on August 27 and 29 in Sydney and Melbourne\, will enable Indian exporters to directly connect with Australian importers\, distributors\, and retailers\, offering them vital avenues to expand their market presence. \nProminent Indian F&B sub-segments being featured at this event include Ethnic & Snacks\, Ready to Eat/Cook\, Organic Food & Cereals\, Tea\, Coffee\, Sweets\, Bakery & Confectionery\, Spices\, Rice\, Fruits & Vegetables\, Vegan Food\, Wine & Spirits\, etc. \nTPCI invites interested F&B exporters to be a part of the Indian delegation to Australia for this BSM and benefit from a highly lucrative opportunity to grow their business in the Oceania region. \nWhy should you attend this India Oceania Buyers Seller Meet?\n• Collaborate with well-known and up-and-coming Australian importers\, retailers\, distributors\, wholesalers\, and partners. \n• Grow your business in one of the fastest-growing markets\, where there is a huge need for processed food and beverage and innovative products. \n• Nurture your business relationships by meeting your current partners as well as getting to know Australia’s industry leaders and current partners. \nProduct Segments\n• Grains & Cereals\n• Bakery & Confectionery\n• Non – Alcoholic Beverages\n• Kitchen Staples\n• Spices & Food Preparation\n• Fresh & Frozen Food Products\n• Ready-to-Eat\n• Ready-to-Cook\n• Tea & Coffee\n• Canned Items\n• Indian Ethnic Sweets & Snacks\n• Health Food etc. \nTentative Programme:\n27-29 August\, 2024 \nDate Schedule\n26th August-Arrival in Sydney\n27th August-B2B Luncheon Meetings in Sydney\n28th August-Arrival in Melbourne\n29th August-B2B Luncheon Meetings in Melbourne\n29th August / 30th August-Departure from Melbourne (as per the availability of flights) \nTo leverage this opportunity for F&B trade with Australia at a discounted rate\, please apply with the duly-filled form attached along with the DD/Cheque of complete amount in favour of “Trade Promotion Council of India” payable at NEW DELHI. The last day to apply for the participation in the BSM was 15th July 2024. The member subsidy is strictly on a first come first serve basis only. Please feel free to connect with the following for further details: \n\nTarique Khan\nSenior Assistant Director\n+91-9205883428\nTarique.khan@tpci.in
URL:https://www.tpci.in/eventdefault/india-oceania-buyer-seller-meet/
CATEGORIES:B2B Meet
END:VEVENT
END:VCALENDAR