BEGIN:VCALENDAR
VERSION:2.0
PRODID:-//Trade Promotion Council of India - ECPv6.15.20//NONSGML v1.0//EN
CALSCALE:GREGORIAN
METHOD:PUBLISH
X-WR-CALNAME:Trade Promotion Council of India
X-ORIGINAL-URL:https://www.tpci.in
X-WR-CALDESC:Events for Trade Promotion Council of India
REFRESH-INTERVAL;VALUE=DURATION:PT1H
X-Robots-Tag:noindex
X-PUBLISHED-TTL:PT1H
BEGIN:VTIMEZONE
TZID:Asia/Kolkata
BEGIN:STANDARD
TZOFFSETFROM:+0530
TZOFFSETTO:+0530
TZNAME:IST
DTSTART:20240101T000000
END:STANDARD
END:VTIMEZONE
BEGIN:VEVENT
DTSTART;TZID=Asia/Kolkata:20250703T080000
DTEND;TZID=Asia/Kolkata:20250704T170000
DTSTAMP:20260423T042050
CREATED:20250425T070918Z
LAST-MODIFIED:20250616T114043Z
UID:22709-1751529600-1751648400@www.tpci.in
SUMMARY:Russia Buyer Seller Meet on Ceramic & Vitrified Tiles
DESCRIPTION:Expand Your Ceramic Tile Exports in the Booming CIS Market\nTrade Promotion Council of India (TPCI) is pleased to announce a strategic B2B Business Delegation of 15 leading Indian Ceramic & Vitrified Tile exporters to Moscow\, Russia\, on 01st and 02nd July 2025. \nIn 2024\, India’s ceramic exports to Russia reached US$ 146 million\, with ceramic tiles (HS 690721) dominating the trade. This product category alone recorded US$ 139.03 million\, reflecting a robust 91% CAGR over the past five years and contributing to 95% of India’s total ceramic exports to Russia. \n\nWhy Join the India–Russia Buyer seller meet?\n\nMeet 40+ pre-selected buyers from Russia and the wider CIS region\nFocused interaction with tile-only importers and key distributors\nExclusive opportunity to promote your products in a high-growth\, tile-demanding market\nGain strategic insights and form long-term partnerships with stakeholders in the CIS region\n\nOver two days of intensive Buyer-Seller Meetings (BSMs)\, Indian exporters will present their product offerings directly to potential partners\, ensuring meaningful engagement and export opportunities. \n\nFeatured Product Segments\n\nCeramic Tiles\nVitrified Tiles\nDouble Charged Vitrified Tiles\nNano Polished Tiles\nSlabs & Kitchen Slabs\nWall Tiles & Floor Tiles\nRoof Tiles & Parking Tiles\nSanitary Ware\nHeavy Duty Tiles\n\n\nTentative Itinerary\nEvent Schedule \n\n\n\n\nDate\nEvent\n\n\n\n\n30th June 2025\nArrival in Moscow\n\n\n01st July 2025\nBuyer Seller Meetings\n\n\n02nd July 2025\nBuyer Seller Meetings\n\n\n03rd July 2025\nDeparture from Moscow\n\n\n\n\n\nParticipation Package\nDelegate Package (Only for companies with a valid IEC)Includes: \n\nPre-arranged B2B meetings with top tile importers\nReturn airfare (Ex-Delhi & Mumbai)\n3-night hotel accommodation in Moscow (twin-sharing with breakfast)\nLuncheon & refreshments during BSM\nAirport transfers\n\nSubsidized Rate: ₹2\,90\,000 + 18% GST (For TPCI Members Only)One participant per company at this rate. \nLimited seats. Secure your participation by submitting the completed form and full payment (DD/Cheque) in favour of “Trade Promotion Council of India”\, payable at New Delhi. \n\nGet in Touch\nFaraz KhanSr. Assistant Director\, Trade Promotion Council of India Phone: +91-11-40727233Mobile: +91-9839157907 / 9205883417Email: faraz.khan@tpci.in
URL:https://www.tpci.in/eventdefault/russia-bsm-on-ceramic/
CATEGORIES:B2B Meet
END:VEVENT
END:VCALENDAR