BEGIN:VCALENDAR
VERSION:2.0
PRODID:-//Trade Promotion Council of India - ECPv6.15.20//NONSGML v1.0//EN
CALSCALE:GREGORIAN
METHOD:PUBLISH
X-ORIGINAL-URL:https://www.tpci.in
X-WR-CALDESC:Events for Trade Promotion Council of India
REFRESH-INTERVAL;VALUE=DURATION:PT1H
X-Robots-Tag:noindex
X-PUBLISHED-TTL:PT1H
BEGIN:VTIMEZONE
TZID:Asia/Kolkata
BEGIN:STANDARD
TZOFFSETFROM:+0530
TZOFFSETTO:+0530
TZNAME:IST
DTSTART:20240101T000000
END:STANDARD
END:VTIMEZONE
BEGIN:VEVENT
DTSTART;VALUE=DATE:20250618
DTEND;VALUE=DATE:20250619
DTSTAMP:20260423T060608
CREATED:20250423T074636Z
LAST-MODIFIED:20250611T073930Z
UID:22670-1750204800-1750291199@www.tpci.in
SUMMARY:India–Egypt Food & Beverages Delegation
DESCRIPTION:Explore New Horizons in the Egyptian F&B Market\nThe Trade Promotion Council of India (TPCI) is pleased to announce an exclusive India–Egypt F&B Exporter Delegation of 25 Indian Food & Beverage exporters to Cairo\, EgyptCairo\, Egypt\, on 18th June 2025. This initiative is part of the India–Egypt Buyer Seller Meet (BSM) on F&B\, designed to promote Indian F&B products in one of North Africa’s fastest-growing markets. \nThis one-day B2B event is a strategic platform for Indian exporters to showcase their innovative and high-quality food and beverage offerings directly to leading Egyptian importers\, modern trade outlets\, distributors\, and retailers. \nWhy Participate?\n\nConnect with Egypt’s top importers\, retail giants\, and F&B stakeholders\nShowcase your food products to an engaged\, relevant audience\nDiscover business opportunities in a market seeking high-demand Indian F&B products\nStrengthen ties with existing partners and initiate new ones\n\nEgypt\, with its growing appetite for processed food\, health foods\, and innovative F&B solutions\, presents a high-potential export destination for Indian companies. Join us to be part of this high-impact BSM event and grow your business footprint in the Middle East and North Africa (MENA) region. \nProduct Segments in Focus\n\nGrains & Cereals\nSpices & Blended Foods\nTea & Coffee\nIndian Ethnic Sweets & Snacks\nOrganic & Vegan Alternatives\nFresh & Frozen Foods\nReady-to-Eat & Ready-to-Cook\nHealth & Functional Foods\nCanned Items\nEdible Oils\nKitchen Staples\n\nParticipation Packages for India–Egypt F&B Exporter Delegation\nComplete Delegate Package\nIncludes: Return airfare (Ex-Delhi)\, hotel (twin-sharing)\, city tour\, local transfers\, BSM participation\, luncheon.\nVisa fees excluded \n\nTPCI Members: ₹2\,25\,000 + 18% GST\nNon-Members: ₹2\,90\,000 + 18% GST\n\nBSM-Only Package\nIncludes: BSM participation and luncheon.\nVisa fees excluded \n\nTPCI Members: ₹1\,25\,000 + 18% GST\nNon-Members: ₹1\,80\,000 + 18% GST\n\nNote: Valid IEC is mandatory. Limited seats available. Last date to apply: 25th May 2025. Subsidy available on a first-come\, first-served basis. \nApply Now\nFill in the self-fillable application form and send it along with the payment (DD/Cheque) in favour of “Trade Promotion Council of India”\, payable at New Delhi. \nFor more information or support\, feel free to get in touch with our team. \n\n\nVishal Talia\nTrade Promotion Council of India\nPhone: +91-11-40727277\nMob: +91-9205883435\nEmail: talia.v@tpci.in
URL:https://www.tpci.in/eventdefault/india-egypt-fb-exporter-delegation/
CATEGORIES:B2B Meet
END:VEVENT
BEGIN:VEVENT
DTSTART;VALUE=DATE:20250619
DTEND;VALUE=DATE:20250623
DTSTAMP:20260423T060608
CREATED:20250423T072349Z
LAST-MODIFIED:20250611T074014Z
UID:22658-1750291200-1750636799@www.tpci.in
SUMMARY:India–Egypt F&B Technology Buyer-Seller Meet 2025
DESCRIPTION:Connecting Innovation with Opportunity in the Egyptian F&B Sector\nJoin us in Cairo for an exclusive platform designed to empower Indian exporters and global stakeholders in the food processing and packaging sectors. The India–Egypt F&B Technology Buyer-Seller Meet 2025 is a strategic initiative to foster trade ties\, share innovations\, and explore new markets in Egypt’s fast-growing food and beverage industry. \nWhat to Expect at India Egypt Buyer Seller Meet 2025\nComprehensive Buyer-Seller Meet\n\nEngage with manufacturers\, suppliers\, consultants\, and decision-makers in Egypt’s food processing and packaging ecosystem.\nShowcase your cutting-edge technologies and products.\nExplore future business collaborations and joint ventures.\n\nExclusive Factory Visits \n\nVisit leading Egyptian food manufacturing units.\nGet firsthand insights into the latest in food production\, packaging trends\, and operational innovations.\n\n\nWhy Egypt?\n\nStrategic Market: With over 100 million consumers and rapid modernization\, Egypt is becoming a hub for advanced food processing and packaging technologies.\nHigh Demand: India exported USD $75 million worth of food processing machinery and USD $45 million in packaging machinery to Egypt in 2023–24.\nOpportunities: Significant demand for automation\, eco-friendly packaging\, robotic systems\, and food-grade materials.\n\n\nTechnological Focus Areas \n\nProcessing & Packaging Machinery\nSpecialized Equipment for Dairy\, Beverages\, and Oils\nHVAC\, Refrigeration & Cold Chain Systems\nBakery & Confectionery Technologies\nLabeling\, Coding & Printing Solutions\nSmart and Sustainable Packaging\nMaterial Handling & Ancillaries\nFood Ingredients & Additives\n\n\nWho Should Attend?\n\nF&B Processors & Manufacturers\nFood Service Chains\, Hotels & Restaurants\nGovernment Agencies & Food Associations\nConsultants\, Certifying Bodies & Labs\nDistributors\, Retailers\, Cloud Kitchens\nCulinary Experts\, Chefs & Caterers\nOrganic & Plant-Based Food Producers\n\n\nDelegate Packages \n\n\n\n\nPackage\nIncludes\nTPCI Members\nNon-Members\n\n\n\n\nComplete Delegate\nFlights (Ex-Delhi)\, twin-sharing hotel\, local transfers\, visa support\, BSM participation\, factory visits\, luncheons (Visa fee excluded)\n₹2\,25\,000 + GST\n₹3\,00\,000 + GST\n\n\nBSM-Only\nBSM participation\, visa support\, luncheons (Visa fee excluded)\n₹1\,25\,000 + GST\n₹2\,00\,000 + GST\n\n\n\n\n\nNote: Valid IEC is mandatory for participation.\n\n\nReady to Expand Your Market Reach? \nClick here to register : Registration Form  \nFor any questions or additional details\, feel free to contact us. We look forward to facilitating your success in the Egyptian market.
URL:https://www.tpci.in/eventdefault/india-egypt-bsm/
CATEGORIES:B2B Meet
END:VEVENT
END:VCALENDAR